BEGIN:VCALENDAR
VERSION:2.0
PRODID:-//Iowa Association of Building Officials - ECPv6.15.18//NONSGML v1.0//EN
CALSCALE:GREGORIAN
METHOD:PUBLISH
X-WR-CALNAME:Iowa Association of Building Officials
X-ORIGINAL-URL:https://iabo.net
X-WR-CALDESC:Events for Iowa Association of Building Officials
REFRESH-INTERVAL;VALUE=DURATION:PT1H
X-Robots-Tag:noindex
X-PUBLISHED-TTL:PT1H
BEGIN:VTIMEZONE
TZID:UTC
BEGIN:STANDARD
TZOFFSETFROM:+0000
TZOFFSETTO:+0000
TZNAME:UTC
DTSTART:20240101T000000
END:STANDARD
END:VTIMEZONE
BEGIN:VEVENT
DTSTART;TZID=UTC:20250911T093000
DTEND;TZID=UTC:20250911T120000
DTSTAMP:20260423T212418
CREATED:20250819T215758Z
LAST-MODIFIED:20250819T215758Z
UID:756-1757583000-1757592000@iabo.net
SUMMARY:IABO Bi-Monthly Meeting
DESCRIPTION:
URL:https://iabo.net/event/iabo-bi-monthly-meeting-2/
LOCATION:City of Marion\, City Hall\, 1225 6th Ave. Council Chambers\, Marion\, IA\, 52302\, United States
ORGANIZER;CN="IABO Chapter":MAILTO:iabovicepresident@gmail.com
END:VEVENT
BEGIN:VEVENT
DTSTART;TZID=UTC:20250814T090000
DTEND;TZID=UTC:20250814T113000
DTSTAMP:20260423T212418
CREATED:20250714T231657Z
LAST-MODIFIED:20250714T231657Z
UID:425-1755162000-1755171000@iabo.net
SUMMARY:EICCC Bi-Monthly Meeting
DESCRIPTION:EICCC Bi-monthly meeting\, agenda will be emailed to all members the week prior to the event.
URL:https://iabo.net/event/eiccc-bi-monthly-meeting/
LOCATION:City of Cedar Rapids City Services Center\, 500 15th Ave. SW\, Cedar Rapids\, IA\, 52404\, United States
ORGANIZER;CN="EICCC Chapter":MAILTO:eicccsecretary@gmail.com
END:VEVENT
BEGIN:VEVENT
DTSTART;TZID=UTC:20250731T150000
DTEND;TZID=UTC:20250731T160000
DTSTAMP:20260423T212418
CREATED:20250714T225850Z
LAST-MODIFIED:20250714T225850Z
UID:420-1753974000-1753977600@iabo.net
SUMMARY:Iowa ICC Chapters Kickoff Meeting
DESCRIPTION:This is the kickoff meeting of the Iowa ICC Chapters collaboration meeting. Agenda is with the calendar invite.
URL:https://iabo.net/event/iowa-icc-chapters-kickoff-meeting/
LOCATION:Online – Virtual
ORGANIZER;CN="IABO Chapter":MAILTO:iabovicepresident@gmail.com
END:VEVENT
BEGIN:VEVENT
DTSTART;TZID=UTC:20250710T093000
DTEND;TZID=UTC:20250710T113000
DTSTAMP:20260423T212418
CREATED:20250701T214213Z
LAST-MODIFIED:20250701T214213Z
UID:411-1752139800-1752147000@iabo.net
SUMMARY:IABO Bi-Monthly Meeting
DESCRIPTION:
URL:https://iabo.net/event/iabo-bi-monthly-meeting/
LOCATION:City of Johnston City Hall\, 6221 Merle Hay Road\, Johnston\, IA\, 50131\, United States
END:VEVENT
END:VCALENDAR