BEGIN:VCALENDAR
VERSION:2.0
PRODID:-//Iowa Association of Building Officials - ECPv6.15.18//NONSGML v1.0//EN
CALSCALE:GREGORIAN
METHOD:PUBLISH
X-ORIGINAL-URL:https://iabo.net
X-WR-CALDESC:Events for Iowa Association of Building Officials
REFRESH-INTERVAL;VALUE=DURATION:PT1H
X-Robots-Tag:noindex
X-PUBLISHED-TTL:PT1H
BEGIN:VTIMEZONE
TZID:UTC
BEGIN:STANDARD
TZOFFSETFROM:+0000
TZOFFSETTO:+0000
TZNAME:UTC
DTSTART:20250101T000000
END:STANDARD
END:VTIMEZONE
BEGIN:VEVENT
DTSTART;TZID=UTC:20260107T080000
DTEND;TZID=UTC:20260109T163000
DTSTAMP:20260425T141601
CREATED:20250819T221434Z
LAST-MODIFIED:20251024T110603Z
UID:761-1767772800-1767976200@iabo.net
SUMMARY:IABO Annual Business Meeting and Training
DESCRIPTION:More Information to come
URL:https://iabo.net/event/iabo-annual-business-meeting-and-training/
LOCATION:To Be Determined
ORGANIZER;CN="IABO Chapter":MAILTO:iabovicepresident@gmail.com
END:VEVENT
END:VCALENDAR